BEGIN:VCALENDAR
VERSION:2.0
PRODID:-//Veramar.com - ECPv6.15.20//NONSGML v1.0//EN
CALSCALE:GREGORIAN
METHOD:PUBLISH
X-WR-CALNAME:Veramar.com
X-ORIGINAL-URL:https://veramar.com
X-WR-CALDESC:Events for Veramar.com
REFRESH-INTERVAL;VALUE=DURATION:PT1H
X-Robots-Tag:noindex
X-PUBLISHED-TTL:PT1H
BEGIN:VTIMEZONE
TZID:UTC
BEGIN:STANDARD
TZOFFSETFROM:+0000
TZOFFSETTO:+0000
TZNAME:UTC
DTSTART:20250101T000000
END:STANDARD
END:VTIMEZONE
BEGIN:VEVENT
DTSTART;TZID=UTC:20260516T140000
DTEND;TZID=UTC:20260516T160000
DTSTAMP:20260424T110507
CREATED:20260203T205816Z
LAST-MODIFIED:20260203T205816Z
UID:4493-1778940000-1778947200@veramar.com
SUMMARY:The Blessing of the Vines
DESCRIPTION:Join Us for a Vineyard Blessing & Celebration  \nYou’re invited to a special Vineyard Blessing Ceremony on Saturday\, May 16th\, at 2 PM\, led by Father Paul from St. Bridget’s Catholic Church in Berryville\, VA. \nWalk with us through the vineyard as Father Paul blesses the vines in the classic European wine tradition\, ensuring a bountiful harvest. Stay afterwards to enjoy live music and toast a glass of wine. \nWe look forward to sharing this beautiful tradition with you! \nThe Blessing and music is open to the public.
URL:https://veramar.com/event/the-blessing-of-the-vines/
ATTACH;FMTTYPE=image/jpeg:https://veramar.com/wp-content/uploads/2026/02/501210687_1332510161971085_125012002279630884_n-1-e1770152272441.jpg
END:VEVENT
BEGIN:VEVENT
DTSTART;TZID=UTC:20260516T140000
DTEND;TZID=UTC:20260516T170000
DTSTAMP:20260424T110507
CREATED:20260420T182115Z
LAST-MODIFIED:20260420T182115Z
UID:4658-1778940000-1778950800@veramar.com
SUMMARY:Live Music with Nate Hadley
DESCRIPTION:Spend your Saturday afternoon with us for the Blessing of the Vines and the acoustic sounds of Nate Hadley\, a Winchester-based folk-Americana artist. Known for his rich\, heartfelt vocals and rootsy storytelling\, Nate draws inspiration from artists like The Lumineers and Tyler Childers.\n\nHis warm\, honest sound is the perfect pairing for a glass of wine and a laid-back summer day.\n\nFree to attend!
URL:https://veramar.com/event/live-music-with-nate-hadley-2/
ATTACH;FMTTYPE=image/png:https://veramar.com/wp-content/uploads/2025/07/31-e1753367405428.png
END:VEVENT
BEGIN:VEVENT
DTSTART;TZID=UTC:20260530T130000
DTEND;TZID=UTC:20260530T170000
DTSTAMP:20260424T110507
CREATED:20260330T144132Z
LAST-MODIFIED:20260420T155225Z
UID:4601-1780146000-1780160400@veramar.com
SUMMARY:*SOLD OUT* Pre-Release Club Tasting
DESCRIPTION:Join us on Saturday\, May 30 for an exclusive Pre-Release Tasting for Veramar Club Members. \nEnjoy an early tasting of 2024 Veramar Quintessential and 2024 Bogaty Reserve Malbec before their official release. Our winemaker will speak about each wine and offer insight into the craftsmanship and story behind the releases. \nTasting times:1:00 PM – 30 spots available3:00 PM – 30 spots available \nThis event is complimentary and ONLY for club members\, but reservations are required. Please reserve your spot by “purchasing” a free ticket in advance.
URL:https://veramar.com/event/pre-release-club-tasting/
ATTACH;FMTTYPE=image/png:https://veramar.com/wp-content/uploads/2026/03/White-Photo-Simple-International-Museum-Day-Event-Facebook-Post-Card-Square-12.png
END:VEVENT
END:VCALENDAR